BEGIN:VCALENDAR
VERSION:2.0
PRODID:icalendar-ruby
CALSCALE:GREGORIAN
METHOD:PUBLISH
BEGIN:VEVENT
DTSTAMP:20260420T031459Z
UID:173-31375@gardenchurchcambridge.com
DTSTART:20260503T140000Z
DTEND:20260503T154500Z
CLASS:PUBLIC
CREATED:20260414T095907
DESCRIPTION:Ready to take the next step in your faith? Baptism Sunday is fo
 r you! \nIf you've put your faith in Christ and are ready for this first 
 step of obedience\, sign up below! We cannot wait to celebrate what God is
  doing!
LAST-MODIFIED:20260414T095907
LOCATION:900 Peachblossom Ave
SUMMARY:Baptism Sunday
URL;VALUE=URI:https://gardenchurchcambridge.com/events/baptism-sunday--173/
 2026-05-03
ATTACH;FILENAME=Baptism-Sunday-Presentation.png;FMTTYPE=image/png:https://d
 q5pwpg1q8ru0.cloudfront.net/2026/04/07/15/44/01/6da70fae-8122-4c6b-9673-85
 adb73392f4/Baptism-Sunday-Presentation.png
END:VEVENT
END:VCALENDAR
