BEGIN:VCALENDAR
VERSION:2.0
PRODID:icalendar-ruby
CALSCALE:GREGORIAN
METHOD:PUBLISH
BEGIN:VEVENT
DTSTAMP:20260420T091550Z
UID:175-31374@gardenchurchcambridge.com
DTSTART:20260419T140000Z
DTEND:20260419T154500Z
CLASS:PUBLIC
CREATED:20260414T095838
DESCRIPTION:Ready to take the next step in your faith? Baptism Sunday is fo
 r you! \nIf you've put your faith in Christ and are ready for this first 
 step of obedience\, sign up below! We cannot wait to celebrate what God is
  doing!
LAST-MODIFIED:20260414T095838
LOCATION:900 Peachblossom Avenue
SUMMARY:Baptism Sunday
URL;VALUE=URI:https://gardenchurchcambridge.com/events/baptism-sunday--175/
 2026-04-19
ATTACH;FILENAME=Baptism-Sunday.jpg;FMTTYPE=image/jpeg:https://dq5pwpg1q8ru0
 .cloudfront.net/2026/04/14/13/58/19/05576efc-62a7-4305-bdb3-a9d5ee7962da/B
 aptism-Sunday.jpg
END:VEVENT
END:VCALENDAR
