BEGIN:VCALENDAR
VERSION:2.0
PRODID:icalendar-ruby
CALSCALE:GREGORIAN
METHOD:PUBLISH
BEGIN:VEVENT
DTSTAMP:20260420T032122Z
UID:171-31358@gardenchurchcambridge.com
DTSTART:20260503T130000Z
DTEND:20260503T190000Z
CLASS:PUBLIC
CREATED:20260402T130919
DESCRIPTION:It's time for another Community Breakfast! Join us on May 3rd\,
  at 9am for bacon\, eggs\, pancakes\, coffee\, and more! This is sure to b
 e a great time of community\, fellowship\, and hope!\nWorship service is i
 mmediately following breakfast\, at 10am! Garden Kids Check-In Begins at 9
 :45am!\nInvite a friend! We look forward to fellowshipping and worshipping
  with you. \n \n**if you'd like to help in the kitchen\, please sign up 
 at Next Steps or by clicking the button below.
LAST-MODIFIED:20260402T130919
LOCATION:900 Peachblossom Ave
SUMMARY:First Sunday: Community Breakfast
URL;VALUE=URI:https://gardenchurchcambridge.com/events/first-sunday-communi
 ty-breakfast--171/2026-05-03
ATTACH;FILENAME=May-Breakfast-Presentation.png;FMTTYPE=image/png:https://dq
 5pwpg1q8ru0.cloudfront.net/2026/04/02/17/09/18/7db6de01-173c-4920-9880-e64
 8c580a226/May-Breakfast-Presentation.png
END:VEVENT
END:VCALENDAR
