BEGIN:VCALENDAR
VERSION:2.0
PRODID:icalendar-ruby
CALSCALE:GREGORIAN
METHOD:PUBLISH
BEGIN:VEVENT
DTSTAMP:20260420T031818Z
UID:174-31371@gardenchurchcambridge.com
DTSTART:20260509T140000Z
DTEND:20260509T160000Z
CLASS:PUBLIC
CREATED:20260409T171009
DESCRIPTION:Need a Mother's Day gift for a Mom\, Grandmom\, Wife\, or Frien
 d? We want to serve you!\nWant to bless yourself for the hard work you put
  in to carry the title "mom"? We want to serve you!\nDo you want to honor 
 a loved one who's passed away? We want to serve you!\nLooking for a fun cr
 aft for the kids to bless mom? We want to serve you!\nThis Mother's Day We
 ekend\, on Saturday\, May 9th\, 10a-12p\, Outside of Cabin Fever\, we’ll
  be helping you paint and fill custom flower pots for Mothers and Families
 !\nEverything is FREE (while supplies last)\, and we will either help you 
 paint your pot\, or paint it for you. We'll even fill it with soil and flo
 wers so that all you have to do is give it to the mom in your life.\nIf yo
 u'd like to sign up to serve this event\, please go to our Next Steps Tabl
 e on Sundays or click the button below! If you are serving\, please arrive
  by 9am so that we can be prepared to bless our community by 10am.
LAST-MODIFIED:20260409T171009
LOCATION:Cabin Fever
SUMMARY:Mother's Day Weekend
URL;VALUE=URI:https://gardenchurchcambridge.com/events/mothers-day-weekend/
 2026-05-09
ATTACH;FILENAME=Mothers-Day-Presentation.png;FMTTYPE=image/png:https://dq5p
 wpg1q8ru0.cloudfront.net/2026/04/09/21/10/09/7059ed44-9661-41db-8b44-c6688
 a4541ed/Mothers-Day-Presentation.png
END:VEVENT
END:VCALENDAR
