BEGIN:VCALENDAR
VERSION:2.0
PRODID:icalendar-ruby
CALSCALE:GREGORIAN
METHOD:PUBLISH
BEGIN:VEVENT
DTSTAMP:20260420T031824Z
UID:158-31370@gardenchurchcambridge.com
DTSTART:20260426T140000Z
DTEND:20260426T153000Z
CLASS:PUBLIC
CREATED:20260407T115820
DESCRIPTION:This April\, we will be taking our Monthly Missions Offerings t
 o benefit nonprofits and missions that are making Gospel-sized impact in C
 ambridge\, Maryland\, the United States\, AND beyond!\nApril's Multiply th
 e Mission Offering will benefit Cassee Wood\, a missionary that we support
  in Athen's Greece. Please pray about your generosity to this organization
 \, before you give\, on April 26th. You can give online\, by text (with th
 e keyword "Multiply")\, or in person on April 26th.
LAST-MODIFIED:20260407T115820
LOCATION:900 Peachblossom Ave
SUMMARY:Multiply the Mission Offering
URL;VALUE=URI:https://gardenchurchcambridge.com/events/multiply-the-mission
 -offering/2026-04-26
ATTACH;FILENAME=1.jpg;FMTTYPE=image/jpeg:https://dq5pwpg1q8ru0.cloudfront.n
 et/2026/04/07/15/57/36/e4f8c8ad-56f7-416e-abcb-f45f3b98b39e/1.jpg
END:VEVENT
END:VCALENDAR
