BEGIN:VCALENDAR
VERSION:2.0
PRODID:icalendar-ruby
CALSCALE:GREGORIAN
METHOD:PUBLISH
BEGIN:VEVENT
DTSTAMP:20260420T032126Z
UID:176-31376@gardenchurchcambridge.com
DTSTART:20260517T161500Z
DTEND:20260517T180000Z
CLASS:PUBLIC
CREATED:20260415T133146
DESCRIPTION:Worship and Tech Team\, it's time to get together! Let's meet a
 t Ava's on May 17th after church to go over worship &amp\; tech team wins\
 , expectations\, and fellowship even more! \nBring your spouse\, even if 
 they do not serve on the team\, so we can thank them for their role in our
  worship as well!
LAST-MODIFIED:20260415T133146
LOCATION:Ava's Pizzeria
SUMMARY:Worship & Tech Team Rally
URL;VALUE=URI:https://gardenchurchcambridge.com/events/worship-tech-team-ra
 lly/2026-05-17
ATTACH;FILENAME=Worship--Tech-Team-Rally-Pres.png;FMTTYPE=image/png:https:/
 /dq5pwpg1q8ru0.cloudfront.net/2026/04/15/17/31/46/9f97434b-2670-4331-9840-
 c8d934d5ebde/Worship--Tech-Team-Rally-Pres.png
END:VEVENT
END:VCALENDAR
